Package: ClustIRR Version: 1.6.0 Command: /Library/Frameworks/R.framework/Resources/bin/R CMD build --keep-empty-dirs --no-resave-data ClustIRR StartedAt: 2025-10-06 21:42:45 -0400 (Mon, 06 Oct 2025) EndedAt: 2025-10-06 21:47:55 -0400 (Mon, 06 Oct 2025) EllapsedTime: 309.4 seconds RetCode: 0 Status: OK PackageFile: ClustIRR_1.6.0.tar.gz PackageFileSize: 3.916 MiB