Package: ClustIRR Version: 1.6.0 Command: rm -rf ClustIRR.buildbin-libdir && mkdir ClustIRR.buildbin-libdir && /Users/biocbuild/BBS/utils/build-universal.sh ClustIRR_1.6.0.tar.gz /Library/Frameworks/R.framework/Resources/bin/R ClustIRR.buildbin-libdir StartedAt: 2025-10-08 20:15:30 -0400 (Wed, 08 Oct 2025) EndedAt: 2025-10-08 20:18:48 -0400 (Wed, 08 Oct 2025) EllapsedTime: 198.6 seconds RetCode: 0 Status: OK PackageFile: ClustIRR_1.6.0.tgz PackageFileSize: 4.848 MiB