Package: ClustAll Version: 1.6.0 Command: /home/biocbuild/bbs-3.22-bioc/R/bin/R CMD check --install=check:ClustAll.install-out.txt --library=/home/biocbuild/bbs-3.22-bioc/R/site-library --timings ClustAll_1.6.0.tar.gz StartedAt: 2025-11-18 01:59:24 -0500 (Tue, 18 Nov 2025) EndedAt: 2025-11-18 02:07:51 -0500 (Tue, 18 Nov 2025) EllapsedTime: 506.5 seconds RetCode: 0 Status: OK CheckDir: ClustAll.Rcheck Warnings: 0