Package: ClustAll Version: 1.6.0 Command: /Library/Frameworks/R.framework/Resources/bin/R CMD INSTALL ClustAll StartedAt: 2025-11-03 15:21:33 -0500 (Mon, 03 Nov 2025) EndedAt: 2025-11-03 15:22:00 -0500 (Mon, 03 Nov 2025) EllapsedTime: 26.7 seconds RetCode: 0 Status: OK