Package: ClustAll Version: 1.4.0 Command: /home/biocbuild/R/R/bin/R CMD INSTALL ClustAll StartedAt: 2025-10-13 20:27:11 -0000 (Mon, 13 Oct 2025) EndedAt: 2025-10-13 20:27:47 -0000 (Mon, 13 Oct 2025) EllapsedTime: 35.3 seconds RetCode: 0 Status: OK