Package: ClustAll Version: 1.4.0 Command: /home/biocbuild/R/R/bin/R CMD build --keep-empty-dirs --no-resave-data ClustAll StartedAt: 2025-10-13 23:41:00 -0000 (Mon, 13 Oct 2025) EndedAt: 2025-10-13 23:47:08 -0000 (Mon, 13 Oct 2025) EllapsedTime: 368.1 seconds RetCode: 0 Status: OK PackageFile: ClustAll_1.4.0.tar.gz PackageFileSize: 2.965 MiB