Package: ClustAll Version: 1.4.0 Command: /Library/Frameworks/R.framework/Resources/bin/R CMD INSTALL ClustAll StartedAt: 2025-04-21 15:31:48 -0400 (Mon, 21 Apr 2025) EndedAt: 2025-04-21 15:31:58 -0400 (Mon, 21 Apr 2025) EllapsedTime: 9.3 seconds RetCode: 0 Status: OK