Package: CluMSID Version: 1.26.0 Command: /home/biocbuild/bbs-3.22-bioc/R/bin/R CMD build --keep-empty-dirs --no-resave-data --md5 CluMSID StartedAt: 2025-11-11 16:57:11 -0500 (Tue, 11 Nov 2025) EndedAt: 2025-11-11 17:02:43 -0500 (Tue, 11 Nov 2025) EllapsedTime: 332.3 seconds RetCode: 0 Status: OK PackageFile: CluMSID_1.26.0.tar.gz PackageFileSize: 4.479 MiB