Package: Clomial Version: 1.46.0 Command: /home/biocbuild/bbs-3.22-bioc/R/bin/R CMD check --install=check:Clomial.install-out.txt --library=/home/biocbuild/bbs-3.22-bioc/R/site-library --timings Clomial_1.46.0.tar.gz StartedAt: 2025-11-13 22:15:03 -0500 (Thu, 13 Nov 2025) EndedAt: 2025-11-13 22:16:41 -0500 (Thu, 13 Nov 2025) EllapsedTime: 98.3 seconds RetCode: 0 Status: OK CheckDir: Clomial.Rcheck Warnings: 0