Package: Clomial Version: 1.46.0 Command: /home/biocbuild/bbs-3.22-bioc/R/bin/R CMD build --keep-empty-dirs --no-resave-data --md5 Clomial StartedAt: 2025-11-11 16:56:57 -0500 (Tue, 11 Nov 2025) EndedAt: 2025-11-11 16:57:11 -0500 (Tue, 11 Nov 2025) EllapsedTime: 14.0 seconds RetCode: 0 Status: OK PackageFile: Clomial_1.46.0.tar.gz PackageFileSize: 1.462 MiB