Package: Clomial Version: 1.44.0 Command: /home/biocbuild/bbs-3.21-bioc/R/bin/R CMD build --keep-empty-dirs --no-resave-data Clomial StartedAt: 2025-10-15 16:47:08 -0400 (Wed, 15 Oct 2025) EndedAt: 2025-10-15 16:47:22 -0400 (Wed, 15 Oct 2025) EllapsedTime: 14.0 seconds RetCode: 0 Status: OK PackageFile: Clomial_1.44.0.tar.gz PackageFileSize: 1.461 MiB