Package: Clomial Version: 1.44.0 Command: /home/biocbuild/R/R/bin/R CMD INSTALL Clomial StartedAt: 2025-10-06 20:14:41 -0000 (Mon, 06 Oct 2025) EndedAt: 2025-10-06 20:15:10 -0000 (Mon, 06 Oct 2025) EllapsedTime: 28.5 seconds RetCode: 0 Status: OK