Package: Clomial Version: 1.46.0 Maintainer: Habil Zare MaintainerEmail: zare at u.washington.edu git_url: https://git.bioconductor.org/packages/Clomial git_branch: RELEASE_3_22 git_last_commit: f59f698 git_last_commit_date: 2025-10-29 10:18:16 -0400 (Wed, 29 Oct 2025)