Package: CleanUpRNAseq Version: 1.4.0 Command: /home/biocbuild/R/R/bin/R CMD build --keep-empty-dirs --no-resave-data CleanUpRNAseq StartedAt: 2025-11-14 00:34:21 -0000 (Fri, 14 Nov 2025) EndedAt: 2025-11-14 00:42:04 -0000 (Fri, 14 Nov 2025) EllapsedTime: 462.7 seconds RetCode: 0 Status: OK PackageFile: CleanUpRNAseq_1.4.0.tar.gz PackageFileSize: 2.006 MiB