Package: CleanUpRNAseq Version: 1.4.0 Command: /home/biocbuild/bbs-3.22-bioc/R/bin/R CMD check --install=check:CleanUpRNAseq.install-out.txt --library=/home/biocbuild/bbs-3.22-bioc/R/site-library --timings CleanUpRNAseq_1.4.0.tar.gz StartedAt: 2025-11-11 22:15:03 -0500 (Tue, 11 Nov 2025) EndedAt: 2025-11-11 22:21:25 -0500 (Tue, 11 Nov 2025) EllapsedTime: 381.6 seconds RetCode: 0 Status: OK CheckDir: CleanUpRNAseq.Rcheck Warnings: 0