Package: CleanUpRNAseq Version: 1.4.0 Command: /home/biocbuild/bbs-3.22-bioc/R/bin/R CMD build --keep-empty-dirs --no-resave-data --md5 CleanUpRNAseq StartedAt: 2025-11-11 16:55:53 -0500 (Tue, 11 Nov 2025) EndedAt: 2025-11-11 16:57:16 -0500 (Tue, 11 Nov 2025) EllapsedTime: 83.1 seconds RetCode: 0 Status: OK PackageFile: CleanUpRNAseq_1.4.0.tar.gz PackageFileSize: 2.411 MiB