Package: CleanUpRNAseq Version: 1.2.0 Command: /Library/Frameworks/R.framework/Resources/bin/R CMD INSTALL CleanUpRNAseq StartedAt: 2025-10-13 16:51:00 -0400 (Mon, 13 Oct 2025) EndedAt: 2025-10-13 16:52:23 -0400 (Mon, 13 Oct 2025) EllapsedTime: 82.7 seconds RetCode: 0 Status: OK