Package: ClassifyR Version: 3.14.0 Command: /home/biocbuild/R/R/bin/R CMD INSTALL ClassifyR StartedAt: 2025-11-10 21:35:14 -0000 (Mon, 10 Nov 2025) EndedAt: 2025-11-10 21:36:02 -0000 (Mon, 10 Nov 2025) EllapsedTime: 48.3 seconds RetCode: 0 Status: OK