Package: ClassifyR Version: 3.14.0 Command: /home/biocbuild/bbs-3.22-bioc/R/bin/R CMD check --install=check:ClassifyR.install-out.txt --library=/home/biocbuild/bbs-3.22-bioc/R/site-library --timings ClassifyR_3.14.0.tar.gz StartedAt: 2025-11-11 22:14:40 -0500 (Tue, 11 Nov 2025) EndedAt: 2025-11-11 22:21:01 -0500 (Tue, 11 Nov 2025) EllapsedTime: 380.5 seconds RetCode: 0 Status: OK CheckDir: ClassifyR.Rcheck Warnings: 0