Package: ClassifyR Version: 3.12.5 Command: /home/biocbuild/bbs-3.21-bioc/R/bin/R CMD check --install=check:ClassifyR.install-out.txt --library=/home/biocbuild/bbs-3.21-bioc/R/site-library --timings ClassifyR_3.12.5.tar.gz StartedAt: 2025-10-15 21:46:16 -0400 (Wed, 15 Oct 2025) EndedAt: 2025-10-15 21:52:45 -0400 (Wed, 15 Oct 2025) EllapsedTime: 388.5 seconds RetCode: 0 Status: OK CheckDir: ClassifyR.Rcheck Warnings: 0