Package: ClassifyR Version: 3.12.5 Command: /home/biocbuild/R/R/bin/R CMD check --install=check:ClassifyR.install-out.txt --library=/home/biocbuild/R/R/site-library --no-vignettes --timings ClassifyR_3.12.5.tar.gz StartedAt: 2025-10-07 07:43:49 -0000 (Tue, 07 Oct 2025) EndedAt: 2025-10-07 07:50:30 -0000 (Tue, 07 Oct 2025) EllapsedTime: 401.3 seconds RetCode: 0 Status: OK CheckDir: ClassifyR.Rcheck Warnings: 0