Package: ClassifyR Version: 3.12.5 Command: /Library/Frameworks/R.framework/Resources/bin/R CMD check --install=check:ClassifyR.install-out.txt --library=/Library/Frameworks/R.framework/Resources/library --no-vignettes --timings ClassifyR_3.12.5.tar.gz StartedAt: 2025-10-14 16:14:35 -0400 (Tue, 14 Oct 2025) EndedAt: 2025-10-14 16:20:37 -0400 (Tue, 14 Oct 2025) EllapsedTime: 362.9 seconds RetCode: 0 Status: WARNINGS CheckDir: ClassifyR.Rcheck Warnings: 1