Package: CiteFuse Version: 1.22.0 Command: /home/biocbuild/bbs-3.22-bioc/R/bin/R CMD INSTALL CiteFuse StartedAt: 2025-11-11 16:00:48 -0500 (Tue, 11 Nov 2025) EndedAt: 2025-11-11 16:01:37 -0500 (Tue, 11 Nov 2025) EllapsedTime: 49.3 seconds RetCode: 0 Status: OK