Package: CiteFuse Version: 1.22.0 Command: /home/biocbuild/bbs-3.22-bioc/R/bin/R CMD build --keep-empty-dirs --no-resave-data --md5 CiteFuse StartedAt: 2025-11-11 16:55:36 -0500 (Tue, 11 Nov 2025) EndedAt: 2025-11-11 16:58:16 -0500 (Tue, 11 Nov 2025) EllapsedTime: 160.2 seconds RetCode: 0 Status: OK PackageFile: CiteFuse_1.22.0.tar.gz PackageFileSize: 3.153 MiB