Package: CircSeqAlignTk Version: 1.12.0 Command: /home/biocbuild/R/R/bin/R CMD INSTALL CircSeqAlignTk StartedAt: 2025-11-13 22:01:31 -0000 (Thu, 13 Nov 2025) EndedAt: 2025-11-13 22:02:32 -0000 (Thu, 13 Nov 2025) EllapsedTime: 60.6 seconds RetCode: 0 Status: OK