Package: CircSeqAlignTk Version: 1.12.0 Command: /home/biocbuild/R/R/bin/R CMD build --keep-empty-dirs --no-resave-data CircSeqAlignTk StartedAt: 2025-11-14 00:33:19 -0000 (Fri, 14 Nov 2025) EndedAt: 2025-11-14 00:42:24 -0000 (Fri, 14 Nov 2025) EllapsedTime: 544.7 seconds RetCode: 0 Status: OK PackageFile: CircSeqAlignTk_1.12.0.tar.gz PackageFileSize: 1.577 MiB