Package: CircSeqAlignTk Version: 1.12.0 Command: /home/biocbuild/bbs-3.22-bioc/R/bin/R CMD check --install=check:CircSeqAlignTk.install-out.txt --library=/home/biocbuild/bbs-3.22-bioc/R/site-library --timings CircSeqAlignTk_1.12.0.tar.gz StartedAt: 2025-11-11 22:14:33 -0500 (Tue, 11 Nov 2025) EndedAt: 2025-11-11 22:22:03 -0500 (Tue, 11 Nov 2025) EllapsedTime: 449.6 seconds RetCode: 0 Status: OK CheckDir: CircSeqAlignTk.Rcheck Warnings: 0