Package: CircSeqAlignTk Version: 1.10.0 Command: /home/biocbuild/bbs-3.21-bioc/R/bin/R CMD INSTALL CircSeqAlignTk StartedAt: 2025-10-05 15:53:43 -0400 (Sun, 05 Oct 2025) EndedAt: 2025-10-05 15:54:28 -0400 (Sun, 05 Oct 2025) EllapsedTime: 44.3 seconds RetCode: 0 Status: OK