Package: CircSeqAlignTk Version: 1.10.0 Command: /home/biocbuild/bbs-3.21-bioc/R/bin/R CMD build --keep-empty-dirs --no-resave-data CircSeqAlignTk StartedAt: 2025-10-05 16:45:35 -0400 (Sun, 05 Oct 2025) EndedAt: 2025-10-05 16:48:08 -0400 (Sun, 05 Oct 2025) EllapsedTime: 153.1 seconds RetCode: 0 Status: OK PackageFile: CircSeqAlignTk_1.10.0.tar.gz PackageFileSize: 1.755 MiB