Package: CircSeqAlignTk Version: 1.10.0 Command: /Library/Frameworks/R.framework/Resources/bin/R CMD build --keep-empty-dirs --no-resave-data CircSeqAlignTk StartedAt: 2025-10-13 17:55:31 -0400 (Mon, 13 Oct 2025) EndedAt: 2025-10-13 18:00:58 -0400 (Mon, 13 Oct 2025) EllapsedTime: 327.3 seconds RetCode: 0 Status: OK PackageFile: CircSeqAlignTk_1.10.0.tar.gz PackageFileSize: 2.05 MiB