Package: CircSeqAlignTk Version: 1.10.0 Command: rm -rf CircSeqAlignTk.buildbin-libdir && mkdir CircSeqAlignTk.buildbin-libdir && /Users/biocbuild/BBS/utils/build-universal.sh CircSeqAlignTk_1.10.0.tar.gz /Library/Frameworks/R.framework/Resources/bin/R CircSeqAlignTk.buildbin-libdir StartedAt: 2025-10-14 13:03:27 -0400 (Tue, 14 Oct 2025) EndedAt: 2025-10-14 13:05:38 -0400 (Tue, 14 Oct 2025) EllapsedTime: 130.6 seconds RetCode: 0 Status: OK PackageFile: CircSeqAlignTk_1.10.0.tgz PackageFileSize: 1.988 MiB