Package: CircSeqAlignTk Version: 1.10.0 Command: rm -rf CircSeqAlignTk.buildbin-libdir && mkdir CircSeqAlignTk.buildbin-libdir && /Users/biocbuild/BBS/utils/build-universal.sh CircSeqAlignTk_1.10.0.tar.gz /Library/Frameworks/R.framework/Resources/bin/R CircSeqAlignTk.buildbin-libdir StartedAt: 2025-10-08 20:12:52 -0400 (Wed, 08 Oct 2025) EndedAt: 2025-10-08 20:13:55 -0400 (Wed, 08 Oct 2025) EllapsedTime: 62.8 seconds RetCode: 0 Status: OK PackageFile: CircSeqAlignTk_1.10.0.tgz PackageFileSize: 1.988 MiB