Package: Chromatograms Version: 1.0.0 Command: /Library/Frameworks/R.framework/Resources/bin/R CMD INSTALL Chromatograms StartedAt: 2025-11-10 15:07:44 -0500 (Mon, 10 Nov 2025) EndedAt: 2025-11-10 15:07:50 -0500 (Mon, 10 Nov 2025) EllapsedTime: 6.0 seconds RetCode: 0 Status: OK