Package: Chromatograms Version: 1.0.0 Command: /Library/Frameworks/R.framework/Resources/bin/R CMD build --keep-empty-dirs --no-resave-data Chromatograms StartedAt: 2025-11-10 15:55:34 -0500 (Mon, 10 Nov 2025) EndedAt: 2025-11-10 15:55:59 -0500 (Mon, 10 Nov 2025) EllapsedTime: 25.3 seconds RetCode: 0 Status: OK PackageFile: Chromatograms_1.0.0.tar.gz PackageFileSize: 968.5 KiB