Package: ChromSCape Version: 1.20.0 Command: /home/biocbuild/R/R/bin/R CMD INSTALL ChromSCape StartedAt: 2025-11-13 22:06:54 -0000 (Thu, 13 Nov 2025) EndedAt: 2025-11-13 22:08:05 -0000 (Thu, 13 Nov 2025) EllapsedTime: 71.1 seconds RetCode: 0 Status: OK