Package: ChromSCape Version: 1.20.0 Command: /home/biocbuild/bbs-3.22-bioc/R/bin/R CMD INSTALL ChromSCape StartedAt: 2025-11-11 16:00:19 -0500 (Tue, 11 Nov 2025) EndedAt: 2025-11-11 16:01:14 -0500 (Tue, 11 Nov 2025) EllapsedTime: 54.7 seconds RetCode: 0 Status: OK