Package: ChromSCape Version: 1.18.0 Command: /home/biocbuild/bbs-3.21-bioc/R/bin/R CMD build --keep-empty-dirs --no-resave-data ChromSCape StartedAt: 2025-10-05 16:45:01 -0400 (Sun, 05 Oct 2025) EndedAt: 2025-10-05 16:46:12 -0400 (Sun, 05 Oct 2025) EllapsedTime: 70.1 seconds RetCode: 0 Status: OK PackageFile: ChromSCape_1.18.0.tar.gz PackageFileSize: 5.303 MiB