Package: ChromSCape Version: 1.18.0 Command: /Library/Frameworks/R.framework/Resources/bin/R CMD INSTALL ChromSCape StartedAt: 2025-10-13 16:41:57 -0400 (Mon, 13 Oct 2025) EndedAt: 2025-10-13 16:43:50 -0400 (Mon, 13 Oct 2025) EllapsedTime: 113.7 seconds RetCode: 0 Status: OK