Package: ChromSCape Version: 1.18.0 Command: rm -rf ChromSCape.buildbin-libdir && mkdir ChromSCape.buildbin-libdir && /Users/biocbuild/BBS/utils/build-universal.sh ChromSCape_1.18.0.tar.gz /Library/Frameworks/R.framework/Resources/bin/R ChromSCape.buildbin-libdir StartedAt: 2025-10-14 13:02:57 -0400 (Tue, 14 Oct 2025) EndedAt: 2025-10-14 13:05:43 -0400 (Tue, 14 Oct 2025) EllapsedTime: 166.5 seconds RetCode: 0 Status: OK PackageFile: ChromSCape_1.18.0.tgz PackageFileSize: 5.796 MiB