Package: ChromSCape Version: 1.18.0 Command: /Library/Frameworks/R.framework/Resources/bin/R CMD INSTALL ChromSCape StartedAt: 2025-10-06 18:18:17 -0400 (Mon, 06 Oct 2025) EndedAt: 2025-10-06 18:19:20 -0400 (Mon, 06 Oct 2025) EllapsedTime: 63.4 seconds RetCode: 0 Status: OK