Package: ChromSCape Version: 1.18.0 Command: /Library/Frameworks/R.framework/Resources/bin/R CMD build --keep-empty-dirs --no-resave-data ChromSCape StartedAt: 2025-10-06 21:22:04 -0400 (Mon, 06 Oct 2025) EndedAt: 2025-10-06 21:23:38 -0400 (Mon, 06 Oct 2025) EllapsedTime: 94.3 seconds RetCode: 0 Status: OK PackageFile: ChromSCape_1.18.0.tar.gz PackageFileSize: 5.304 MiB