Package: ChromHeatMap Version: 1.64.0 Command: /home/biocbuild/R/R/bin/R CMD build --keep-empty-dirs --no-resave-data ChromHeatMap StartedAt: 2025-11-11 00:28:18 -0000 (Tue, 11 Nov 2025) EndedAt: 2025-11-11 00:29:22 -0000 (Tue, 11 Nov 2025) EllapsedTime: 64.0 seconds RetCode: 0 Status: OK PackageFile: ChromHeatMap_1.64.0.tar.gz PackageFileSize: 311.4 KiB