Package: ChromHeatMap Version: 1.64.0 Command: /home/biocbuild/bbs-3.22-bioc/R/bin/R CMD check --install=check:ChromHeatMap.install-out.txt --library=/home/biocbuild/bbs-3.22-bioc/R/site-library --timings ChromHeatMap_1.64.0.tar.gz StartedAt: 2025-11-11 22:11:36 -0500 (Tue, 11 Nov 2025) EndedAt: 2025-11-11 22:15:44 -0500 (Tue, 11 Nov 2025) EllapsedTime: 248.4 seconds RetCode: 0 Status: OK CheckDir: ChromHeatMap.Rcheck Warnings: 0