Package: Chicago Version: 1.38.0 Command: /home/biocbuild/bbs-3.22-bioc/R/bin/R CMD build --keep-empty-dirs --no-resave-data --md5 Chicago StartedAt: 2025-11-13 16:49:35 -0500 (Thu, 13 Nov 2025) EndedAt: 2025-11-13 16:51:10 -0500 (Thu, 13 Nov 2025) EllapsedTime: 95.1 seconds RetCode: 0 Status: OK PackageFile: Chicago_1.38.0.tar.gz PackageFileSize: 1.25 MiB