Package: ChemmineR Version: 3.62.0 Command: /home/biocbuild/R/R/bin/R CMD INSTALL ChemmineR StartedAt: 2025-11-13 21:17:39 -0000 (Thu, 13 Nov 2025) EndedAt: 2025-11-13 21:18:15 -0000 (Thu, 13 Nov 2025) EllapsedTime: 36.5 seconds RetCode: 0 Status: OK