Package: ChemmineR Version: 3.62.0 Command: /home/biocbuild/bbs-3.22-bioc/R/bin/R CMD check --install=check:ChemmineR.install-out.txt --library=/home/biocbuild/bbs-3.22-bioc/R/site-library --timings ChemmineR_3.62.0.tar.gz StartedAt: 2025-11-13 22:05:31 -0500 (Thu, 13 Nov 2025) EndedAt: 2025-11-13 22:08:23 -0500 (Thu, 13 Nov 2025) EllapsedTime: 172.2 seconds RetCode: 0 Status: WARNINGS CheckDir: ChemmineR.Rcheck Warnings: 2