Package: ChemmineR Version: 3.60.0 Command: /Library/Frameworks/R.framework/Resources/bin/R CMD INSTALL ChemmineR StartedAt: 2025-04-21 15:11:56 -0400 (Mon, 21 Apr 2025) EndedAt: 2025-04-21 15:12:29 -0400 (Mon, 21 Apr 2025) EllapsedTime: 33.4 seconds RetCode: 0 Status: OK