Package: ChemmineR Version: 3.60.0 Command: /home/biocbuild/R/R/bin/R CMD INSTALL ChemmineR StartedAt: 2025-09-25 20:23:52 -0000 (Thu, 25 Sep 2025) EndedAt: 2025-09-25 20:24:28 -0000 (Thu, 25 Sep 2025) EllapsedTime: 36.0 seconds RetCode: 0 Status: OK