Package: ChemmineR Version: 3.60.0 Command: /home/biocbuild/R/R/bin/R CMD build --keep-empty-dirs --no-resave-data ChemmineR StartedAt: 2025-09-25 23:38:51 -0000 (Thu, 25 Sep 2025) EndedAt: 2025-09-25 23:40:06 -0000 (Thu, 25 Sep 2025) EllapsedTime: 75.0 seconds RetCode: 0 Status: OK PackageFile: ChemmineR_3.60.0.tar.gz PackageFileSize: 2.079 MiB