Package: ChemmineR Version: 3.60.0 Command: /Library/Frameworks/R.framework/Resources/bin/R CMD build --keep-empty-dirs --no-resave-data ChemmineR StartedAt: 2025-04-21 15:52:33 -0400 (Mon, 21 Apr 2025) EndedAt: 2025-04-21 15:52:59 -0400 (Mon, 21 Apr 2025) EllapsedTime: 25.3 seconds RetCode: 0 Status: OK PackageFile: ChemmineR_3.60.0.tar.gz PackageFileSize: 2.245 MiB